BEGIN:VCALENDAR
VERSION:2.0
PRODID:-//seeport.at - ECPv5.14.1//NONSGML v1.0//EN
CALSCALE:GREGORIAN
METHOD:PUBLISH
X-WR-CALNAME:seeport.at
X-ORIGINAL-URL:https://www.seeport.at
X-WR-CALDESC:Veranstaltungen für seeport.at
BEGIN:VTIMEZONE
TZID:Europe/Berlin
BEGIN:DAYLIGHT
TZOFFSETFROM:+0100
TZOFFSETTO:+0200
TZNAME:CEST
DTSTART:20230326T010000
END:DAYLIGHT
BEGIN:STANDARD
TZOFFSETFROM:+0200
TZOFFSETTO:+0100
TZNAME:CET
DTSTART:20231029T010000
END:STANDARD
END:VTIMEZONE
BEGIN:VEVENT
DTSTART;TZID=Europe/Berlin:20230701T113000
DTEND;TZID=Europe/Berlin:20230701T235900
DTSTAMP:20260420T203104
CREATED:20220803T091045Z
LAST-MODIFIED:20230630T150052Z
UID:9191-1688211000-1688255940@www.seeport.at
SUMMARY:TEAM ME UP - see:PORT Drachenbootrennen 2023
DESCRIPTION:see:PORT präsentiert – in Kooperation mit der Kärntner Sparkasse:\nDRACHENBOOTRENNEN 2023: WIR SITZEN ALLE IN EINEM BOOT!\nKomm ins see:PORT-TEAM!\nSamstag\, 1. Juli\, 10.00 Uhr \n20 Menschen inklusive Trommler treiben mit gebündelter Kraft im gleichen Takt das Drachenboot an. Gemeinsam nehmen wir Fahrt auf und sehen unser Ziel immer näher kommen. Ein Gefühl\, dass wir als Team beim Drachenbootrennen am ersten Wochenende im Juli am Wörthersee erleben werden. Sei auch du dabei und unterstütze das see:PORT-Team mit deiner Power. Gemeinsam können wir viel erreichen! Denn nicht nur an diesem Tag\, sondern auch an allen anderen Tagen\, sitzen wir alle in einem Boot! Vielen Dank auch an das Team der Kärntner Sparkasse für den Support beim Boot! \n  \nWas: Jährliche Hobby-Regatta des Ruderverein Nautilus\, deren Erlös dem Verein zugutekommt. 20 Personen sitzen in einem Boot\, mindestens 2 Rennen werden gefahren. Vorkenntnisse sind nicht erforderlich.\n\nWann: Samstag\, 1. Juli 2023\, Treffpunkt 11.30 Uhr beim RV Nautilus.\nDauer je nach Rennverlauf\, maximal 19.30 Uhr\, falls im Finale.\n\nWo: RV Nautilus\, Friedelstrand 21\, 9020 Klagenfurt\n\nWas wird benötigt: Teamgeist\, gute Laune\, Begeisterung\, Ersatzkleidung (auch bei schönem Wetter wird es nass).\nVerpflegung: Ausreichend vor Ort durch den Verein gewährleistet (nicht inkludiert).\n\nDie Veranstaltung findet (fast) bei jeder Witterung statt. Zuschauer/Begleitpersonen sind herzlich willkommen und müssen sich nicht anmelden.\n\nWir freuen uns auf euch: Euer see.PORT-Team!\n\nBei Fragen wendet euch an: office@seeport.at\n(Bitte beachten Sie\, dass das Event unabhängig von Wetterbedingungen stattfindet und bei schlechtem Wetter keine Stornierungen oder Rückerstattungen möglich sind.)\nTermin- und Programmänderungen vorbehalten! \n\n			\n		\n				\n					\n				\n				\n					\n				\n				\n					\n				\n				\n					\n				\n				\n					\n				\n				\n					\n				\n				\n					\n				\n				\n					\n				\n				\n			\n\n  \n  \n\n  \nTermin- und Programmänderungen vorbehalten! \n\n\n\n\n\n>> see:PORT RACERS PACKAGE powered by Kärntner Sparkasse:\nInkludiert im see:PORT Racers Package: \n\nNenngeld für das Drachenbootrennen im Team see:PORT\nGutschein für ein Mittagessen und ein Getränk beim Ruderverein Nautilus\nGutschein für einen Kaffee und einen Kuchen beim Ruderverein Nautilus\nsee:PORT TEAM ME UP Goodiebag\n\n  \nInhalt see:PORT TEAM ME UP Goodiebag: \n\nWelcome Drinks – Sportdrink und Red Bull\nWörthersee Schildkappe\nWKK Wasserflasche mit Neoprenhülle\n\nsee:PORT RACERS PACKAGE (Anmeldung\, hier klicken!) \n\n  \nFragt auch nach den attraktiven „Business-Packages“:\nStaffelpreise für Teams\, Kunden\, etc.\, ab 5 Tickets!\nBitte schreibt uns: office@seeport.at
URL:https://www.seeport.at/event/team-me-up-seeport-drachenbootrennen-2023/
LOCATION:RV Nautilus\, Friedelstrand 21\, Klagenfurt\, Kärnten\, 9020\, Österreich
CATEGORIES:Social Event
ATTACH;FMTTYPE=image/png:https://www.seeport.at/wp-content/uploads/2022/06/DRACHENBOOT-SCHRIFTZUG-ONLY.png
END:VEVENT
END:VCALENDAR