BEGIN:VCALENDAR
VERSION:2.0
PRODID:-//seeport.at - ECPv5.14.1//NONSGML v1.0//EN
CALSCALE:GREGORIAN
METHOD:PUBLISH
X-WR-CALNAME:seeport.at
X-ORIGINAL-URL:https://www.seeport.at
X-WR-CALDESC:Veranstaltungen für seeport.at
BEGIN:VTIMEZONE
TZID:Europe/Berlin
BEGIN:DAYLIGHT
TZOFFSETFROM:+0100
TZOFFSETTO:+0200
TZNAME:CEST
DTSTART:20240331T010000
END:DAYLIGHT
BEGIN:STANDARD
TZOFFSETFROM:+0200
TZOFFSETTO:+0100
TZNAME:CET
DTSTART:20241027T010000
END:STANDARD
END:VTIMEZONE
BEGIN:VEVENT
DTSTART;TZID=Europe/Berlin:20241129T143000
DTEND;TZID=Europe/Berlin:20241129T173000
DTSTAMP:20260420T222336
CREATED:20231006T132339Z
LAST-MODIFIED:20241128T154953Z
UID:11797-1732890600-1732901400@www.seeport.at
SUMMARY:Start(up) Friday\, Episode 35 - Let´s future: KI-Innovationen
DESCRIPTION:Der Start(up) Friday gilt als Pionier der Innovationveranstaltungen und zählt zu den beliebtesten Vortragsformaten\, die seit nunmehr fünf Jahren im see:PORT in Pörtschach wichtige Impulse für die Entrepreneur-Szene aussenden. \nUnser Programm:\n14:30 Ankommen und Networking\n15:00 Beginn Start(up) Friday\n          Opening durch Sebastian Schuschnig\, Landesrat für Wirtschaft\, Tourismus und Mobilität \n15:05 Neues aus dem see:PORT \n15:15 Kooperationspartner und Ökosystem-Impuls\n          Martina Eckerstorfer\, Geschäftsführung\, DIH Süd – „Digitalisierung ist easy – Weiterbildungsangebote im Bereich KI“\n \n15:30 Innovator-Impuls\n          Roland Willmann\, Professur für Industrial Management\, FH Kärnten – „Die Zukunft gestalten: Wie KI Innovation neu definiert“ \n \n15:45 Investor-Impuls\, powered by see:PORT InvestorCircle\n          Martin Klässner\, CEO\, GrowthSquare – „Wie KI die Strategieumsetzung beeinflusst“ \n16:00 Best-Practice-Impulse\n          Albert Kreiner\, Leiter Abt. 7 – Wirtschaft\, Tourismus und Mobilität\, Land Kärnten – „Wie KI in Zukunft die Verwaltung effizienter\, serviceorientierter und bürgernäher gestalten kann.“\n          Markus Orlitsch\, Co-Founder\, Bubble Explorer „Von Silicon Valley bis Kärnten – Revolution der Geschäftsprozesse durch KI“ \n16:10 Pitching-Time für Startups\, Scaleups\, u.v.m.\n          Ralph Stöckl\, Founder\, SimplyAI – „Online-KI-Plattform für Hotelgäste-Anfragen“\n          Christoph Huber\, Co-Founder\, ennocure MedTech – „Die Zukunft der Wundversorgung beginnt jetzt“\n          Alexander Wengler\, CEO & Founder\, wikimoves – „Der KI-Trainer in deiner Tasche“\n          Zahra Tahmtan\, neptun.ai – „Der KI Headline Hunter“ \n16:30 Networking und Smalltalk in der see:PORT-Cafeteria \nProgrammänderungen vorbehalten! \nACHTUNG: Aus organisatorischen Gründen bitten wir um die Anmeldung bis Mittwoch\, den 27. November 2024.
URL:https://www.seeport.at/event/startup-friday-episode-35/
LOCATION:see:PORT\, Hauptstrasse 204\, Pörtschach\, Kärnten\, 9210\, Österreich
CATEGORIES:Start (up) Friday
ATTACH;FMTTYPE=image/png:https://www.seeport.at/wp-content/uploads/2023/10/35.-SuF-KI_Innovationen_Postkarte_seePORT_20240925-1.png
ORGANIZER;CN="see%3APORT%20-%20innovate%20%26%20create%20%40%20the%20lake":MAILTO:office@seeport.at
GEO:46.6365682;14.1409163
X-APPLE-STRUCTURED-LOCATION;VALUE=URI;X-ADDRESS=see:PORT Hauptstrasse 204 Pörtschach Kärnten 9210 Österreich;X-APPLE-RADIUS=500;X-TITLE=Hauptstrasse 204:geo:14.1409163,46.6365682
END:VEVENT
END:VCALENDAR