BEGIN:VCALENDAR
VERSION:2.0
PRODID:-//seeport.at - ECPv5.14.1//NONSGML v1.0//EN
CALSCALE:GREGORIAN
METHOD:PUBLISH
X-WR-CALNAME:seeport.at
X-ORIGINAL-URL:https://www.seeport.at
X-WR-CALDESC:Veranstaltungen für seeport.at
BEGIN:VTIMEZONE
TZID:Europe/Berlin
BEGIN:DAYLIGHT
TZOFFSETFROM:+0100
TZOFFSETTO:+0200
TZNAME:CEST
DTSTART:20240331T010000
END:DAYLIGHT
BEGIN:STANDARD
TZOFFSETFROM:+0200
TZOFFSETTO:+0100
TZNAME:CET
DTSTART:20241027T010000
END:STANDARD
END:VTIMEZONE
BEGIN:VEVENT
DTSTART;VALUE=DATE:20241025
DTEND;VALUE=DATE:20241026
DTSTAMP:20260422T104104
CREATED:20231006T132123Z
LAST-MODIFIED:20241018T092811Z
UID:11791-1729814400-1729900799@www.seeport.at
SUMMARY:Start(up) Friday\, Episode 34 - Let´s future: Technologien der Zukunft
DESCRIPTION:Der Start(up) Friday gilt als Pionier der Innovationveranstaltungen und zählt zu den beliebtesten Vortragsformaten\, die seit nunmehr fünf Jahren im see:PORT in Pörtschach wichtige Impulse für die Entrepreneur-Szene aussenden. \n  \nUnser Programm:\n14:30 Ankommen und Networking\n15:00 Beginn Start(up) Friday\n          Opening durch Sebastian Schuschnig\, Landesrat für Wirtschaft\, Tourismus und Mobilität \n15:05 Neues aus dem see:PORT \n15:10 Kooperationspartner und Ökosystem-Impuls\n          Sandra Moschitz\, Business Development\, Startup Coach vom build! Gründerzentrum Kärnten\n \n15:25 Innovator-Impuls\n          Kambis Kohansal Vajargah\, Head of Startup-Services und Deputy Head of Founder-Services\, WKÖ \n15:40 Investor-Impuls\, powered by see:PORT InvestorCircle\n          Nina Dremelj\, Managing Partner\, Vesna deep tech Fund \n15:55 Best-Practice\n \n          Christian Kollegger\, Founder\, Streamdiver \n16:05 Pitching-Time für Startups\, Scaleups\, u.v.m.       \n          Klement Kralj\, Co-Founder & CEO\, Remea \n          Daniel Schöffmann\, Founder\, inmojo \n          Miriam Udier & Klaus Ruetz\, Founder\, SUPGlider \n16:30 Networking und Smalltalk in der see:PORT-Cafeteria \n  \nProgrammänderungen vorbehalten! \n  \nACHTUNG: Aus organisatorischen Gründen bitten wir um die Anmeldung bis Mittwoch\, den 23. Oktober 2024.
URL:https://www.seeport.at/event/startup-friday-episode-34-lets-future/
LOCATION:see:PORT\, Hauptstrasse 204\, Pörtschach\, Kärnten\, 9210\, Österreich
CATEGORIES:Start (up) Friday
ATTACH;FMTTYPE=image/png:https://www.seeport.at/wp-content/uploads/2023/10/34.-SuF-Technologie-der-Zukunft_Postkarte_seePORT_20240319-2.png
ORGANIZER;CN="see%3APORT%20-%20innovate%20%26%20create%20%40%20the%20lake":MAILTO:office@seeport.at
GEO:46.6365682;14.1409163
X-APPLE-STRUCTURED-LOCATION;VALUE=URI;X-ADDRESS=see:PORT Hauptstrasse 204 Pörtschach Kärnten 9210 Österreich;X-APPLE-RADIUS=500;X-TITLE=Hauptstrasse 204:geo:14.1409163,46.6365682
END:VEVENT
END:VCALENDAR