BEGIN:VCALENDAR
VERSION:2.0
PRODID:-//seeport.at - ECPv5.14.1//NONSGML v1.0//EN
CALSCALE:GREGORIAN
METHOD:PUBLISH
X-WR-CALNAME:seeport.at
X-ORIGINAL-URL:https://www.seeport.at
X-WR-CALDESC:Veranstaltungen für seeport.at
BEGIN:VTIMEZONE
TZID:Europe/Berlin
BEGIN:DAYLIGHT
TZOFFSETFROM:+0100
TZOFFSETTO:+0200
TZNAME:CEST
DTSTART:20200329T010000
END:DAYLIGHT
BEGIN:STANDARD
TZOFFSETFROM:+0200
TZOFFSETTO:+0100
TZNAME:CET
DTSTART:20201025T010000
END:STANDARD
END:VTIMEZONE
BEGIN:VEVENT
DTSTART;TZID=Europe/Berlin:20200713T080000
DTEND;TZID=Europe/Berlin:20200713T130000
DTSTAMP:20260420T101128
CREATED:20200531T101736Z
LAST-MODIFIED:20200618T150151Z
UID:6345-1594627200-1594645200@www.seeport.at
SUMMARY:Sales Training – Erfolgreich B2B und B2C verhandeln und verkaufen
DESCRIPTION:Erfolgreich aus der Krise! Know-how\, Skills\, Tools und Kompetenzen.\nDie aktuelle Situation stellt Unternehmen und Mitarbeiter vor große Herausforderungen. Dennoch ist es möglich\, aus Krisen stärker zurückzukehren\, indem man sich neue Ideen\, Inhalte\, Fertigkeiten\, Werkzeuge und Wissen für den wirtschaftlichen Erfolg aneignet. Die see:PORT-Academy bietet im Juni und Juli kostengünstige\, punktgenaue Intensivworkshops mit Experten aus der Praxis zu derzeit wichtigen Themen: von Finanzierung\, über Verkauf bis hin zu Social-Media-Marketing\, Digitalisierung\, Innovation oder Smart Working (Home Office/Remote Work). \nInhalte:\n\nVerkaufen hat mit Emotion zu tun. Was löst bei Ihren Kunden das gute Gefühl aus?\nJedes erfolgreiche Verkaufsgespräch braucht Vorbereitung\nIst es ein Einwand oder ein Vorwand?\n\nZiele/Nutzen:\n\nHerausfinden\, was genau das Bedürfnis der Kunden ist\nWissen\, worauf es in der Vorbereitung auf Verkaufsgespräche ankommt\nPraktikable Methoden für die Einwandbehandlung und die Abschlussfrage kennenlernen\nWissen\, welche die Säulen einer erfolgreichen Preisverhandlung sind\n\nZielgruppe:\n\nUnternehmer (KMU\, EPU\, Gründer)\, Führungskräfte\, Vertriebsmitarbeiter\n\nTrainer:\nRobert Mack war viele Jahre in Managementpositionen der Styria Media AG tätig. Seine Leidenschaft für den Vertrieb hat er 2016 in seinem Buch „Erfolgreich handeln in schwierigem Umfeld“ unter Beweis gestellt. Seit 2017 ist er als strategischer Berater für Verkauf und Vertrieb im In- und Ausland tätig und unterstützt Firmen in Fragen des Vertriebs. \n„Im Verkauf sind Krisenzeiten immer auch Chancenzeiten!“ \nAbschluss:\nIm Rahmen der Veranstaltung erhalten Sie eine Teilnahmebestätigung.
URL:https://www.seeport.at/event/sales-training-erfolgreich-b2b-und-b2c-verhandeln-und-verkaufen/
LOCATION:see:PORT\, Hauptstrasse 204\, Pörtschach\, Kärnten\, 9210\, Österreich
CATEGORIES:Seminar,Workshop
ATTACH;FMTTYPE=image/jpeg:https://www.seeport.at/wp-content/uploads/2020/05/NEU_12_Header_WS_seePORT-Academy-0607-2020_20200725.jpg
ORGANIZER;CN="see%3APORT-Academy":MAILTO:academy@seeport.at
GEO:46.6365682;14.1409163
X-APPLE-STRUCTURED-LOCATION;VALUE=URI;X-ADDRESS=see:PORT Hauptstrasse 204 Pörtschach Kärnten 9210 Österreich;X-APPLE-RADIUS=500;X-TITLE=Hauptstrasse 204:geo:14.1409163,46.6365682
END:VEVENT
END:VCALENDAR