BEGIN:VCALENDAR
VERSION:2.0
PRODID:-//seeport.at - ECPv5.14.1//NONSGML v1.0//EN
CALSCALE:GREGORIAN
METHOD:PUBLISH
X-WR-CALNAME:seeport.at
X-ORIGINAL-URL:https://www.seeport.at
X-WR-CALDESC:Veranstaltungen für seeport.at
BEGIN:VTIMEZONE
TZID:Europe/Berlin
BEGIN:DAYLIGHT
TZOFFSETFROM:+0100
TZOFFSETTO:+0200
TZNAME:CEST
DTSTART:20180325T010000
END:DAYLIGHT
BEGIN:STANDARD
TZOFFSETFROM:+0200
TZOFFSETTO:+0100
TZNAME:CET
DTSTART:20181028T010000
END:STANDARD
END:VTIMEZONE
BEGIN:VEVENT
DTSTART;TZID=Europe/Berlin:20181018T190000
DTEND;TZID=Europe/Berlin:20181018T210000
DTSTAMP:20260422T053455
CREATED:20180926T124553Z
LAST-MODIFIED:20180926T124553Z
UID:4493-1539889200-1539896400@www.seeport.at
SUMMARY:Persönlichkeiten erlesen. Hans-Peter Premur\, Querdenker\, Weltenbummler und Pfarrer
DESCRIPTION:Mehr Info:\nDownload Datei PDF Einladung\n  \n\n 
URL:https://www.seeport.at/event/persoenlichkeiten-erlesen-hans-peter-premur-querdenker-weltenbummler-und-pfarrer/
LOCATION:see:PORT\, Hauptstrasse 204\, Pörtschach\, Kärnten\, 9210\, Österreich
ORGANIZER;CN="P%C3%B6rtschach%20bl%C3%BCth%20auf":MAILTO:ka.kbw@kath-kirche-kaernten.at
GEO:46.6365682;14.1409163
X-APPLE-STRUCTURED-LOCATION;VALUE=URI;X-ADDRESS=see:PORT Hauptstrasse 204 Pörtschach Kärnten 9210 Österreich;X-APPLE-RADIUS=500;X-TITLE=Hauptstrasse 204:geo:14.1409163,46.6365682
END:VEVENT
END:VCALENDAR