BEGIN:VCALENDAR
VERSION:2.0
PRODID:-//seeport.at - ECPv5.14.1//NONSGML v1.0//EN
CALSCALE:GREGORIAN
METHOD:PUBLISH
X-WR-CALNAME:seeport.at
X-ORIGINAL-URL:https://www.seeport.at
X-WR-CALDESC:Veranstaltungen für seeport.at
BEGIN:VTIMEZONE
TZID:Europe/Berlin
BEGIN:DAYLIGHT
TZOFFSETFROM:+0100
TZOFFSETTO:+0200
TZNAME:CEST
DTSTART:20250330T010000
END:DAYLIGHT
BEGIN:STANDARD
TZOFFSETFROM:+0200
TZOFFSETTO:+0100
TZNAME:CET
DTSTART:20251026T010000
END:STANDARD
END:VTIMEZONE
BEGIN:VEVENT
DTSTART;TZID=Europe/Berlin:20251024T143000
DTEND;TZID=Europe/Berlin:20251024T173000
DTSTAMP:20260421T002312
CREATED:20250522T143711Z
LAST-MODIFIED:20251021T101157Z
UID:12840-1761316200-1761327000@www.seeport.at
SUMMARY:Start(up) Friday\, Episode 38 - Let´s future: Cyber Security & Crypto
DESCRIPTION:Der Start(up) Friday im see:PORT Pörtschach ist seit fünf Jahren ein Fixpunkt für Innovationsbegeisterte\, Gründer:innen\, Investor:innen und alle\, die die Zukunft mitgestalten wollen. \nUnser Programm:\n\n14:30 – Ankommen & Networking\n15:00 – Begrüßung durch Sebastian Schuschnig\, Landesrat für Wirtschaft\, Tourismus und Mobilität\n15:05 – Neues aus dem see:PORT\n15:10 – Ökosystem-Impuls: DIH Süd\, Martina Eckerstorfer\, Geschäftsführung\n15:25 – Cyber Security Austria – Verein: Jonas Heschl\n15:30 – Innovator-Impuls: FH Campus 02\, Berndt Jesenko\, Stv. Departmentleiter IT & Wirtschaftsinformatik\n15:40 – Crypto-Impuls: Hashlynk\, Thomas Ebner\, Co-Founder\n15:50 – Best-Practice-Impuls: SecAttack\, Paul Schussmann\, Mitgründer und Geschäftsführer\n16:00 – Startup Pitch #1: RechnerLotsen\, Moritz Schmid\, Geschäftsführer –> IT-Sicherheit für alle\n16:05 – Startup Pitch #2: Crypto Unity\, Anja Šinkovec\, Co-Founder & COO / Sandi Špenko\, Co-Founder & CEO –> Sicher & einfach in die Welt der Kryptowährungen\n16:10 – Startup Pitch #3: PWND Labs\, Felix Slama\, Geschäftsführer –> Ethical Hacking made in Kärnten\n16:30 – Networking in der Cafeteria\n\n>> Hier geht´s zur Anmeldung<<\nProgrammänderungen vorbehalten! \nACHTUNG: Aus organisatorischen Gründen bitten wir um die Anmeldung bis Mittwoch\, den 22. Oktober 2025.
URL:https://www.seeport.at/event/kopie-startup-friday-episode-38-lets-future-ki-innovation/
LOCATION:see:PORT\, Hauptstrasse 204\, Pörtschach\, Kärnten\, 9210\, Österreich
CATEGORIES:Start (up) Friday
ATTACH;FMTTYPE=image/png:https://www.seeport.at/wp-content/uploads/2025/05/38.-SuF-KI-Innovationen_Postkarte_seePORT_20250522-1-1.png
ORGANIZER;CN="see%3APORT%20-%20innovate%20%26%20create%20%40%20the%20lake":MAILTO:office@seeport.at
GEO:46.6365682;14.1409163
X-APPLE-STRUCTURED-LOCATION;VALUE=URI;X-ADDRESS=see:PORT Hauptstrasse 204 Pörtschach Kärnten 9210 Österreich;X-APPLE-RADIUS=500;X-TITLE=Hauptstrasse 204:geo:14.1409163,46.6365682
END:VEVENT
END:VCALENDAR