BEGIN:VCALENDAR
VERSION:2.0
PRODID:-//seeport.at - ECPv5.14.1//NONSGML v1.0//EN
CALSCALE:GREGORIAN
METHOD:PUBLISH
X-WR-CALNAME:seeport.at
X-ORIGINAL-URL:https://www.seeport.at
X-WR-CALDESC:Veranstaltungen für seeport.at
BEGIN:VTIMEZONE
TZID:Europe/Berlin
BEGIN:DAYLIGHT
TZOFFSETFROM:+0100
TZOFFSETTO:+0200
TZNAME:CEST
DTSTART:20240331T010000
END:DAYLIGHT
BEGIN:STANDARD
TZOFFSETFROM:+0200
TZOFFSETTO:+0100
TZNAME:CET
DTSTART:20241027T010000
END:STANDARD
END:VTIMEZONE
BEGIN:VEVENT
DTSTART;TZID=Europe/Berlin:20240223T143000
DTEND;TZID=Europe/Berlin:20240223T173000
DTSTAMP:20260420T222649
CREATED:20231006T131659Z
LAST-MODIFIED:20240215T125748Z
UID:11783-1708698600-1708709400@www.seeport.at
SUMMARY:Start(up) Friday\, Episode 32 - Let´s future: Tourismus der Zukunft
DESCRIPTION:Der Start(up) Friday gilt als Pionier der Innovationveranstaltungen und zählt zu den beliebtesten Vortragsformaten\, die seit nunmehr fünf Jahren im see:PORT in Pörtschach wichtige Impulse für die Entrepreneur-Szene aussenden. \nUnser Programm:\n14:30 Ankommen und Networking in der see:PORT-Cafeteria \n15:00 Beginn Start(up) Friday\nOpening durch Sebastian Schuschnig\, Landesrat für Wirtschaft\, Tourismus und Mobilität \n15:05 Neues aus dem see:PORT \n15:10 Kooperationspartner und Ökosystem-Impuls\nChristian Walter\, Global CEO\, PKF Hospitality Group (tbc)\nMichael Umschaden-Neubauer\, Leitung Digitale Medien & Datenmanagement\, Kärnten Werbung \n15:20 Innovator-Impuls\nOliver Csendes\, Chief\, Digital and Innovation Officer\, Österreich Werbung \n15:30 Investor-Impuls\, powered by see:PORT InvestorCircle\nGebhard Schachermayer\, Managing Partner\, JP Hospitality & JP Hospitality Investors Club\nBernd Hinteregger\, Geschäftsführung\, HB1 Hotel\, Investment\, Sanierung & Beteiligungs Holding \n15:45 Best-Practice-Tourismus\nThomas Eichtinger\, Teamlead Business\, Development & Innovation\, Flughafen Wien AG \n15:55 Pitching-Time für Startups\, Scaleups\, u.v.m.\n \n\nMichael Reussner\, Founder\, Freecer® – frostet Gläser in Sekunden\nPatrick Lengdorfer\, Founder\, Sports re:[Member] – der digitale Skikeller\nDaniela Gefahrt und Kathrin Buchinger-Schlader\, Founderin\, SKEETOO – das Mückenschild\nDaniel Kövary\, Founder\, stuul – stylisch\, gesund\, nachhaltig\nPatricia Fichter\, Founderin\, DirndlFit  – damit jedes Dirndl sitzt\nHermann Schlattner\, Founder\, CanBug – Gäste werden es lieben\nAndreas Schlintl\, Founder\, Livecheck – Musik buchen leicht gemacht\nBalazs Blaho\, Founder\, One Two Beer – perfektes Bier in 5 Sekunden\n\n16:30 Networking und Smalltalk in der see:PORT-Cafeteria \nTipp: mit Live-Präsentationen! \n  \nProgrammänderungen vorbehalten! \nACHTUNG: Aus organisatorischen Gründen bitten wir um die Anmeldung bis Mittwoch\, den 21. Februar 2024.
URL:https://www.seeport.at/event/kopie-startup-friday-episode-32-lets-future-tourism/
LOCATION:see:PORT\, Hauptstrasse 204\, Pörtschach\, Kärnten\, 9210\, Österreich
CATEGORIES:Start (up) Friday
ORGANIZER;CN="see%3APORT%20-%20innovate%20%26%20create%20%40%20the%20lake":MAILTO:office@seeport.at
GEO:46.6365682;14.1409163
X-APPLE-STRUCTURED-LOCATION;VALUE=URI;X-ADDRESS=see:PORT Hauptstrasse 204 Pörtschach Kärnten 9210 Österreich;X-APPLE-RADIUS=500;X-TITLE=Hauptstrasse 204:geo:14.1409163,46.6365682
END:VEVENT
END:VCALENDAR