BEGIN:VCALENDAR
VERSION:2.0
PRODID:-//seeport.at - ECPv5.14.1//NONSGML v1.0//EN
CALSCALE:GREGORIAN
METHOD:PUBLISH
X-WR-CALNAME:seeport.at
X-ORIGINAL-URL:https://www.seeport.at
X-WR-CALDESC:Veranstaltungen für seeport.at
BEGIN:VTIMEZONE
TZID:Europe/Berlin
BEGIN:DAYLIGHT
TZOFFSETFROM:+0100
TZOFFSETTO:+0200
TZNAME:CEST
DTSTART:20230326T010000
END:DAYLIGHT
BEGIN:STANDARD
TZOFFSETFROM:+0200
TZOFFSETTO:+0100
TZNAME:CET
DTSTART:20231029T010000
END:STANDARD
END:VTIMEZONE
BEGIN:VEVENT
DTSTART;TZID=Europe/Berlin:20231108T083000
DTEND;TZID=Europe/Berlin:20231108T100000
DTSTAMP:20260421T021639
CREATED:20231011T100714Z
LAST-MODIFIED:20231025T130447Z
UID:11516-1699432200-1699437600@www.seeport.at
SUMMARY:InvestorCircle Talk mit Verma Vijay\, Dharma Funding Solutions
DESCRIPTION:Der see:PORT InvestorCircle Talk gibt einen intensiven und persönlichen Einblick in das Thema Investieren und die Arbeit eines Business-Angel. Darüberhinaus sollen sich Interessente vernetzen\, mögliche Investments bündeln (Co-Investment) und so den Erfahrungsaustausch unter Investoren ermöglichen. Der see:PORT InvestorCircle Talk ist ein exklusives Format für Investor:innen\, Business Angels und alle die sich für Investments in Gründerideen interessieren. \n  \n\nSprecher: Dr. Vijay K Verma\, CEO von Dharma Funding Solutions\nTipp an sein jüngeres Ich:\n„Starte früher mit dem Geschäft und nutze Bildung als Sprungbrett für Unternehmertum.“\n\n\n\nDie Brücke zwischen Innovation und Finanzierung\n\nIn der dynamischen Startup-Landschaft ist Dr. Vijay Verma mit Dharma Funding Solutions ein Vorreiter in Sachen Finanzierung innovativer Ideen. Er und sein Team haben es sich zur Mission gemacht\, Startups und KMU dabei zu unterstützen\, ihre visionären Projekte zu finanzieren. \n\nEin kurzer Blick auf Dharma Funding Solutions\nUnter der Führung von Dr. Verma hat das Unternehmen über 50 Projekte im Jahr 2022 finanziert und expandiert erfolgreich nach Barcelona. Mit einem engagierten Team von Expert:innen bietet Dharma Funding Solutions maßgeschneiderte Finanzierungslösungen für innovative Ideen. \n\nInhalt des Vortrags\n\nEin Überblick über öffentliche Finanzierungen in Österreich und der EU.\nBest Practices für die Nutzung von Investitionen als Eigenkapital.\nDie Rolle von österreichischer und EU-Finanzierung für Start-ups.\n\n  \n\nWir freuen uns auf Ihre Teilnahme an diesem inspirierenden Talk\, in der Sie die Möglichkeit haben werden\, tiefere Einblicke und Wissen aus erster Hand von einem Branchenführer zu erhalten.\n\n\nBis bald beim see:PORT InvestorCircle Talk!\n  \n\n\n\n\n\n\nWas: InvestorCircle Talk\nWer: Dr. Verma Vijay\, Dharma\nWann: Mittwoch\, 08. November 2023\, 8.30 bis 10.00 Uhr
URL:https://www.seeport.at/event/investorcircle-talk-mit-vijay-verma-dharma-funding-solutions/
LOCATION:online
CATEGORIES:Investor Circle
ATTACH;FMTTYPE=image/jpeg:https://www.seeport.at/wp-content/uploads/2023/10/Bild-vijay-780x439-1.jpg
ORGANIZER;CN="see%3APORT%20-%20innovate%20%26%20create%20%40%20the%20lake":MAILTO:office@seeport.at
END:VEVENT
END:VCALENDAR