BEGIN:VCALENDAR
VERSION:2.0
PRODID:-//seeport.at - ECPv5.14.1//NONSGML v1.0//EN
CALSCALE:GREGORIAN
METHOD:PUBLISH
X-WR-CALNAME:seeport.at
X-ORIGINAL-URL:https://www.seeport.at
X-WR-CALDESC:Veranstaltungen für seeport.at
BEGIN:VTIMEZONE
TZID:Europe/Berlin
BEGIN:DAYLIGHT
TZOFFSETFROM:+0100
TZOFFSETTO:+0200
TZNAME:CEST
DTSTART:20230326T010000
END:DAYLIGHT
BEGIN:STANDARD
TZOFFSETFROM:+0200
TZOFFSETTO:+0100
TZNAME:CET
DTSTART:20231029T010000
END:STANDARD
END:VTIMEZONE
BEGIN:VEVENT
DTSTART;TZID=Europe/Berlin:20230510T083000
DTEND;TZID=Europe/Berlin:20230510T100000
DTSTAMP:20260420T135921
CREATED:20230411T142224Z
LAST-MODIFIED:20230411T150053Z
UID:10684-1683707400-1683712800@www.seeport.at
SUMMARY:InvestorCircle Talk mit René Ratz\, Carinthian Venture Fonds
DESCRIPTION:Der see:PORT InvestorCircle Talk gibt einen intensiven und persönlichen Einblick in das Thema Investieren und die Arbeit eines Business-Angel. Darüberhinaus sollen sich Interessente vernetzen\, mögliche Investments bündeln (Co-Investment) und so den Erfahrungsaustausch unter Investoren ermöglichen. Der see:PORT InvestorCircle Talk ist ein exklusives Format für Investor*innen\, Business Angels und alle die sich für Investments in Gründerideen interessieren. \n\n\n  \n \n  \nMehr Mut zu Risikokapital – Innovation\, Strahlkraft & Wertschöpfung am Standort Kärnten.\n\nDer CVF investiert als öffentlicher Venture Fonds\, gemeinsam mit unabhängigen privaten Co-Investoren\, in wachstumsfähige\, skalierbare und innovationsfähige regionale StartUps. \n  \nRené Ratz\, Investmentmanager\, Carinthian Venture Fonds\n\nAusgebildeter Betriebswirt und seit Oktober 2022 Investmentmanager beim Carinthian Venture Fonds (CVF). Nach dem ABWL-Studium zwei Jahre als Fondsmanager bei einer Privatbank in Graz tätig. Von 2011 bis 2016 Investmentmanager beim Kärntner Zukunftsfonds (Portfolio von rd. € 500 Mio.) und bis zuletzt Verantwortlicher beim Kärntner Ausgleichszahlungsfonds für die Abwicklung der HETA bei der größten Kapitalmarkttransaktion 2016 (€ 11 Mrd.). Privat gerne sportlich in der Natur (Berge/Seen -> sowohl im Winter als auch im Sommer)\, auf Reisen und in Gesellschaft. \nBeim see:PORT InvestorCircle Talk stellt er den Carinthian Venture Fonds und die Arbeitsweise vor! \n  \n\n\n\n\n\n\n\nIn Kürze:\n\n\nWas: InvestorCircle Talk \nWer: René Ratz\, Investmentmanager\, Carinthian Venture Fonds \nWann: Mittwoch\, 10. Mai 2023\, 8:30 Uhr\, online
URL:https://www.seeport.at/event/investorcircle-talk-mit-rene-ratz-carinthian-venture-fonds/
LOCATION:online
CATEGORIES:Investor Circle
ATTACH;FMTTYPE=image/jpeg:https://www.seeport.at/wp-content/uploads/2023/04/Rene_CVF_002-scaled-e1681225094848.jpg
ORGANIZER;CN="see%3APORT%20-%20innovate%20%26%20create%20%40%20the%20lake":MAILTO:office@seeport.at
END:VEVENT
END:VCALENDAR