BEGIN:VCALENDAR
VERSION:2.0
PRODID:-//seeport.at - ECPv5.14.1//NONSGML v1.0//EN
CALSCALE:GREGORIAN
METHOD:PUBLISH
X-WR-CALNAME:seeport.at
X-ORIGINAL-URL:https://www.seeport.at
X-WR-CALDESC:Veranstaltungen für seeport.at
BEGIN:VTIMEZONE
TZID:Europe/Berlin
BEGIN:DAYLIGHT
TZOFFSETFROM:+0100
TZOFFSETTO:+0200
TZNAME:CEST
DTSTART:20230326T010000
END:DAYLIGHT
BEGIN:STANDARD
TZOFFSETFROM:+0200
TZOFFSETTO:+0100
TZNAME:CET
DTSTART:20231029T010000
END:STANDARD
END:VTIMEZONE
BEGIN:VEVENT
DTSTART;TZID=Europe/Berlin:20230705T083000
DTEND;TZID=Europe/Berlin:20230705T183000
DTSTAMP:20260420T235857
CREATED:20230614T113106Z
LAST-MODIFIED:20230614T114036Z
UID:11269-1688545800-1688581800@www.seeport.at
SUMMARY:Ideathon
DESCRIPTION:STARTKLAR FÜR DEN IDEATHON!\nDu bist innovativ\, kreativ und hast eine Leidenschaft für die Zukunft der Mobilität? Am 5. Juli laden wir Dich zum Ideathon nach Pörtschach ein\, um mit uns den Weg für eine neue Mobilitätsepoche zu pflastern.\nIm see:PORT Pörtschach kommen Zukunftsgestalter:innen zusammen\, um an einem ereignisreichen Tag die Mobilität der Zukunft zu gestalten – Bist Du bereit? \nDer Ideathon ist eine Veranstaltung\, die sich auf die Entwicklung von Ideen und Lösungen konzentriert\, die zur Mobilität der Zukunft beitragen. Mit Impulsvorträgen\, Innovationsmethoden und Kreativtechniken wirst Du oder Dein Team durch ein Expertenpanel unterstützt\, um Deine Ideen vor einer Fachjury und einem Publikum zu präsentieren. \nStelle Dich der Herausforderung und revolutioniere die Mobilität der Zukunft! Ganz gleich\, ob Du im Team arbeiten oder alleine antreten möchtest: Bringe Deine kreativen Ideen ein\, um die erste/letzte Meile durch On-Demand Verkehr und autonome Shuttles effizienter zu gestalten. Egal ob du bereits Erfahrung mit autonomer Mobilität hast oder nicht\, teilnehmen kann jeder ab 14 Jahren. Finde heraus\, wie kontaktloses Fahren zur Akzeptanz neuer Mobilitätskonzepte beitragen kann und entwickle innovative Lösungen für den Transport von Kleingütern und Personen in autonomen Shuttles. \nWerde nicht nur Teilnehmer:in\, sondern Pionier:in im Mobilitätswandel. Jede Teilnehmer:in erhält Euro 50 in Einkaufsgutscheinen sowie Sachpreise\, während die Teilnehmer:innen der Schlussrunde zusätzliches Preisgeld pro Team erhalten. Die Gewinnerteams erhalten zusätzlich Euro 500 pro Team. \nLos geht’s am 5. Juli 2023 um 8:30 Uhr. Der Tag beginnt mit der Registrierung\, einem Frühstück und dem Kennenlernen\, gefolgt von der Einführung in den Ideathon und der Vorstellung der Challenges. Anschließend gibt es Impulsvorträge\, Gruppenarbeit und Pausen zum Netzwerken\, bevor die Präsentation der Ergebnisse vor der Jury beginnt. \nBist Du bereit\, Teil der Innovation zu sein? Melde Dich jetzt an und gestalte mit uns die Mobilität der Zukunft. Wir freuen uns auf Deine Teilnahme und Deine innovativen Ideen. Anmeldeschluss ist der 23. Juni. \n\n\n\n\n\n\nInnovation\, Kreativität und Lösungen für die Zukunft der Mobilität\n\n\n\n\n\n\n\n\n\n\nÜber den Wettbewerb\nDer Ideathon ist ein Wettbewerb\, bei dem wir uns auf die Entwicklung von Ideen und Lösungen konzentrieren\, die zur Mobilität der Zukunft beitragen. Unser Team von Expert:innen unterstützt Euch mit Impulsvorträgen\, Innovationsmethoden und Kreativtechniken. Die Teilnahme ist als Einzelperson oder im Team möglich. Die Ideen werden vor einer Fachjury und einem Publikum präsentiert. \n\n\n\n\n\n\n\n\n\n\nDie Challenges\nDeine Chance\, die Mobilität der Zukunft zu gestalten. Löse folgende Herausforderungen alleine oder im Team: \n\nErste/letzte Meile (von Tür zu Tür):\n\nWie kann man den öffentlichen Verkehr (Bus\, Bahn) mit autonomen bedarfsorientierten (On-Demand) Services (Shuttles\, Fahrzeuge\, Robotaxis …) verbinden?\nWie sollen autonome Shuttles gestaltet sein\, damit ein kontaktloses Fahren (per APP\, berührungslos\, mit Monitoren\, Sprachausgaben\, Sensoren …) möglich wird?\n\n\nLogistik: Wie kann man den Transport von Kleingütern (kleine Pakete und Waren) und Personen möglichst gut kombinieren und den Einsatz der Fahrzeuge optimieren (keine Leerfahrten\, leeren Busse …)?\n\n\n\n\n\n\n\n\n\n\n\n\n\nJury und Bewertung\nDeine Ideen werden von unserer Fachjury und dem Publikum bewertet. Die Bewertung basiert auf drei Kriterien: Innovationsgehalt\, Relevanz und Überzeugungskraft. Die besten drei Ideen jeder Challenge kommen in die Schlussrunde. \n\n\n\n\n\n\n\n\n\n\nPreisgeld und Belohungen\nAlle Teilnehmer:innen erhalten Sachpreise und einen Euro 50  Einkaufsgutschein. Die Gewinnerteams  erhalten zusätzlich Euro 500 pro Team. \n\n\n\n\n\n\n\n\n\n\n\n\nAblauf\nDer Ideathon startet am 5. Juli 2023 um 8:30 Uhr. Der Tag beginnt mit der Registrierung\, einem Frühstück und dem Kennenlernen\, gefolgt von der Einführung in den Ideathon und der Vorstellung der Challenges. Danach gibt es Impulsvorträge\, Gruppenarbeit\, Pausen zum Netzwerken\, ein Mittagessen und schließlich die Präsentation der Ergebnisse vor der Jury. \n\n\n\n\n\n\n\n\n\n\nWann und Wo?\nAm 5. Juli 2023 von 8:30 bis 19:30 im see:PORT Pörtschach \n\n\n\n\n\n\n\n\n\n\nMelde Dich jetzt an und werde Teil des Ideathons. Trage dazu bei\, die Mobilität der Zukunft zu gestalten. Wir freuen uns auf Deine Teilnahme und innovativen Ideen.\n\n\n\n\n\n\n 
URL:https://www.seeport.at/event/ideathon/
LOCATION:see:PORT\, Hauptstrasse 204\, Pörtschach\, Kärnten\, 9210\, Österreich
CATEGORIES:Workshop
ATTACH;FMTTYPE=image/jpeg:https://www.seeport.at/wp-content/uploads/2023/06/EE1I0025-scaled.jpg
GEO:46.6365682;14.1409163
X-APPLE-STRUCTURED-LOCATION;VALUE=URI;X-ADDRESS=see:PORT Hauptstrasse 204 Pörtschach Kärnten 9210 Österreich;X-APPLE-RADIUS=500;X-TITLE=Hauptstrasse 204:geo:14.1409163,46.6365682
END:VEVENT
END:VCALENDAR