BEGIN:VCALENDAR
VERSION:2.0
PRODID:-//seeport.at - ECPv5.14.1//NONSGML v1.0//EN
CALSCALE:GREGORIAN
METHOD:PUBLISH
X-WR-CALNAME:seeport.at
X-ORIGINAL-URL:https://www.seeport.at
X-WR-CALDESC:Veranstaltungen für seeport.at
BEGIN:VTIMEZONE
TZID:Europe/Berlin
BEGIN:DAYLIGHT
TZOFFSETFROM:+0100
TZOFFSETTO:+0200
TZNAME:CEST
DTSTART:20250330T010000
END:DAYLIGHT
BEGIN:STANDARD
TZOFFSETFROM:+0200
TZOFFSETTO:+0100
TZNAME:CET
DTSTART:20251026T010000
END:STANDARD
END:VTIMEZONE
BEGIN:VEVENT
DTSTART;TZID=Europe/Berlin:20250523T143000
DTEND;TZID=Europe/Berlin:20250523T173000
DTSTAMP:20260420T222351
CREATED:20250303T122903Z
LAST-MODIFIED:20250520T083425Z
UID:12792-1748010600-1748021400@www.seeport.at
SUMMARY:Start(up) Friday\, Episode 37 - Let´s future: Green Tech
DESCRIPTION:Der Start(up) Friday im see:PORT Pörtschach ist seit fünf Jahren ein Fixpunkt für Innovationsbegeisterte\, Gründer:innen\, Investor:innen und alle\, die die Zukunft mitgestalten wollen. Dieses Mal widmen wir uns einem der wichtigsten Themen unserer Zeit: Green Tech – nachhaltige Technologien\, die Wirtschaft und Umwelt in Einklang bringen. Gemeinsam mit unserem Partner\, dem Green Tech Valley Cluster\, präsentieren wir inspirierende Speaker\, spannende Pitches und jede Menge Gelegenheiten zum Netzwerken. \nUnser Programm:\n14:30 Ankommen und Networking\n15:00 Beginn Start(up) Frida\n          Opening durch Sebastian Schuschnig\, Landesrat für Wirtschaft\, Tourismus und Mobilität \n15:05 Neues aus dem see:PORT \n15:10 Kooperationspartner und Ökosystem-Impul\n          Hannah Egger\, Projektleiterin Green Startupmark (Green Tech Valley \n15:25 Innovator-Impuls\n          Martin Glatz\, Leiter Innovation bei Kelag Energie \n15:35 Investor-Impuls\, powered by see:PORT InvestorCircl\n          Berthold Baurek-Karlic\, Venionaire Capital AG \n15:50 Best-Practice\n          Anatoly Zimin\, CEO & Founder\, GreenMesh\n          Albert Kreiner\, DeCarB\, Aufsichtsrat Verkehrsverbund Kärnten GesmbH (VKG) \n16:00 Pitching-Time für Startups\, Scaleups\, u.v.m.\n          Andreas Jaritz\, CRO\, easily\n          Matthias Wagner\, CO-FOUNDER\, HASHLYNK\n          Leo Sulzmann\, CEO & Produktentwickler\, Freundeskreis\n          Vipul Khatana\, Co-Founder\, Eevigardens\n          Lukas Waldner\, Co-Founder & COO\, 21energy \n16:30 Networking und Smalltalk in der see:PORT-Cafeteria \n\n  \n🎤 Speaker & Startups\nHannah Egger – Green Tech Valley Cluster\nAls Projektleiterin unterstützt Hannah angehende Green-Tech-Gründer:innen mit voller Energie. Sie präsentiert die „Green Tech Startups Austria 2025 Landscape“\, die Österreichs nachhaltige Startup-Szene sichtbar macht und weiterentwickelt​. \nMartin Glatz – Kelag\nDer Innovationschef der Kelag spricht über die Zukunft der Energieversorgung in Kärnten – mit Fokus auf erneuerbare Energie und systemische Innovationen​. \nBerthold Baurek-Karlic – Venionaire Capital\nDer erfahrene Investor zeigt\, wie Green Tech die Finanzwelt transformiert – mit Fokus auf Kreislaufwirtschaft und neue Investmentmodelle​. \nAnatoly Zimin – GreenMesh\nDer CEO von GreenMesh zeigt\, wie IoT-Technologien öffentliche Räume smarter und nachhaltiger machen – ohne digitale Showeffekte\, dafür mit echtem Impact​. \n\n\n🚀 Startups im Pitch\neasily – Andreas Jaritz\nEinfach und effizient E-Autos laden – auch ohne große Ladeinfrastruktur. Das Grazer Startup bietet digitale Ladelösungen für urbane Räume und Businessparks​. \nHASHLYNK – Matthias Wagner\nÜberschüssiger Strom? HASHLYNK verwandelt ihn in Rechenleistung und nutzbare Wärme – eine doppelte Energieverwertung\, die begeistert​. \nFreundeskreis – Leo Sulzmann\nEevi Gardens – Vipul Khatana\nDas smarte Indoor-Gartensystem für frische Lebensmittel direkt in deiner Wohnung. Nachhaltig\, platzsparend und wunderschön designt​. \n21energy – Lukas Waldner\nBitcoin-Mining trifft auf Heiztechnik: 21energy nutzt Abwärme aus Hochleistungsrechnern für CO2-neutrales Heizen​. \nProgrammänderungen vorbehalten! \n  \nACHTUNG: Aus organisatorischen Gründen bitten wir um die Anmeldung bis Mittwoch\, den 21. Mai 2025.
URL:https://www.seeport.at/event/friday-episode-37-lets-future-greentech/
LOCATION:see:PORT\, Hauptstrasse 204\, Pörtschach\, Kärnten\, 9210\, Österreich
CATEGORIES:Start (up) Friday
ATTACH;FMTTYPE=image/png:https://www.seeport.at/wp-content/uploads/2025/03/37.-SuF-GreenTech_Postkarte_seePORT_20250303.png
ORGANIZER;CN="see%3APORT%20-%20innovate%20%26%20create%20%40%20the%20lake":MAILTO:office@seeport.at
GEO:46.6365682;14.1409163
X-APPLE-STRUCTURED-LOCATION;VALUE=URI;X-ADDRESS=see:PORT Hauptstrasse 204 Pörtschach Kärnten 9210 Österreich;X-APPLE-RADIUS=500;X-TITLE=Hauptstrasse 204:geo:14.1409163,46.6365682
END:VEVENT
END:VCALENDAR