BEGIN:VCALENDAR
VERSION:2.0
PRODID:-//seeport.at - ECPv5.14.1//NONSGML v1.0//EN
CALSCALE:GREGORIAN
METHOD:PUBLISH
X-WR-CALNAME:seeport.at
X-ORIGINAL-URL:https://www.seeport.at
X-WR-CALDESC:Veranstaltungen für seeport.at
BEGIN:VTIMEZONE
TZID:Europe/Berlin
BEGIN:DAYLIGHT
TZOFFSETFROM:+0100
TZOFFSETTO:+0200
TZNAME:CEST
DTSTART:20220327T010000
END:DAYLIGHT
BEGIN:STANDARD
TZOFFSETFROM:+0200
TZOFFSETTO:+0100
TZNAME:CET
DTSTART:20221030T010000
END:STANDARD
END:VTIMEZONE
BEGIN:VEVENT
DTSTART;TZID=Europe/Berlin:20221117T180000
DTEND;TZID=Europe/Berlin:20221117T190000
DTSTAMP:20260425T202235
CREATED:20220718T125501Z
LAST-MODIFIED:20220811T083954Z
UID:9166-1668708000-1668711600@www.seeport.at
SUMMARY:Entrepreneurship Evening mit Manfred Haiberger\, Gründer und Geschäftsführer HARATECH GmbH
DESCRIPTION: Wir freuen uns\, Manfred Haiberger\, Gründer und Geschäftsführer HARATECH GmbH\, als Speaker für den  Entrepreneurship Evening am 17. November 2022\, LIVE im see:PORT begrüßen zu dürfen.\nZiel des Entrepreneurship Evening ist es\, einen intensiven\, persönlichen\, und exklusiven Einblick in das Thema Unternehmertum zu geben\, Menschen dafür zu begeistern und Erfahrungsaustausch unter UnternehmerInnen zu ermöglichen. Der Fokus liegt hierbei auf der Persönlichkeit hinter einem erfolgreichen Entrepreneur. \n\nManfred Haiberger\n\nManfred Haiberger ist ausgebildeter Kunststofftechniker und ein leidenschaftlicher Innovator und Founder. Nach verschiedenen Stationen in der Industrie als Produktentwickler und Kunststofftechniker hat er 2003 die HARATECH GmbH gegründet und diese von einem Garagenbetrieb bis zu einem etablierten Systemlieferanten entwickelt. Für die Umsetzung von eigenen Innovationsprojekten und als Inkubator-Plattform\, gründete er 2019 die INFABITY Innovation GmbH. Diese ist mittlerweile an zwei Startups in der Sportbranche beteiligt und entwickelt neue nachhaltige Produktlösungen und 3D-Softwareprodukte für personalisierte Produkte. \n  \n \n  \n\nHARATECH GmbH\nDie HARATECH GmbH ist ein etablierter Systemlieferant für die Entwicklung und Produktion von komplexen Baugruppen und neuen innovativen Produkten. Mit 3DZ – 3D-Druckzentrum Austria –  bietet das Unternehmen verschiedenste industrielle 3D-Druck Fertigungslösungen an\, und mit über 40 umgesetzten Startup-Entwicklungsprojekten zählt HARATECH zu den führenden Innovationsdienstleistern in Österreich. \n  \n \n\nManfred Haiberger – driven by innovation – mein “leiden”schaftlicher Weg zum Entrepreneur.\nSo lautet der Titel des Vortrags\, welchen Manfred Haiberger im Zuges des Entrepreneurship Evenings am 17. November halten wird. Innovationen sind von jeher ein Haupttreiber für die Entwicklung unserer Gesellschaft und ein spezieller Faktor für die nachhaltige Entwicklung eines Unternehmens. Ein Entrepreneur treibt mit viel Leidenschaft die Innovationen voran und schreckt nicht vor Risiken und Ungewissheit zurück. „Im Vortrag erhalten Sie praktische Einblicke über die täglichen Herausforderungen und Chancen eines innovationsgetriebenen Entrepreneurs!“ – so Manfred Haiberger. Weiters skizziert er den Weg vom Garagenbetrieb zum Systemlieferanten\, seine größten Herausforderungen und Learnings\, als auch seinen Spagat als Innovator\, Entrepreneur und Founder. \n\nIn Kürze:\n\n\nWas:    Entrepreneurship Evening \nWer: Manfred Haiberger\, Gründer und Geschäftsführer HARATECH GmbH \nTitel: „Manfred Haiberger – driven by innovation – mein “leiden”schaftlicherWeg zum Entrepreneur“ \nWann: Donnerstag\, 17. November 2022\, 18h\, live im see:PORT \n\n  \n  \n  \nWir freuen uns auf exklusive Einblicke\, sowie zahlreiche Teilnehmende! \n 
URL:https://www.seeport.at/event/entrepreneurship-evening-mit-manfred-haiberger-gruender-und-geschaeftsfuehrer-haratech-gmbh/
LOCATION:see:PORT\, Hauptstrasse 204\, Pörtschach\, Kärnten\, 9210\, Österreich
CATEGORIES:Entrepreneurship-Evening
ATTACH;FMTTYPE=image/png:https://www.seeport.at/wp-content/uploads/2022/07/EE-FB-EVENT-1.png
ORGANIZER;CN="see%3APORT%20-%20innovate%20%26%20create%20%40%20the%20lake":MAILTO:office@seeport.at
GEO:46.6365682;14.1409163
X-APPLE-STRUCTURED-LOCATION;VALUE=URI;X-ADDRESS=see:PORT Hauptstrasse 204 Pörtschach Kärnten 9210 Österreich;X-APPLE-RADIUS=500;X-TITLE=Hauptstrasse 204:geo:14.1409163,46.6365682
END:VEVENT
END:VCALENDAR