BEGIN:VCALENDAR
VERSION:2.0
PRODID:-//seeport.at - ECPv5.14.1//NONSGML v1.0//EN
CALSCALE:GREGORIAN
METHOD:PUBLISH
X-WR-CALNAME:seeport.at
X-ORIGINAL-URL:https://www.seeport.at
X-WR-CALDESC:Veranstaltungen für seeport.at
BEGIN:VTIMEZONE
TZID:Europe/Berlin
BEGIN:DAYLIGHT
TZOFFSETFROM:+0100
TZOFFSETTO:+0200
TZNAME:CEST
DTSTART:20200329T010000
END:DAYLIGHT
BEGIN:STANDARD
TZOFFSETFROM:+0200
TZOFFSETTO:+0100
TZNAME:CET
DTSTART:20201025T010000
END:STANDARD
END:VTIMEZONE
BEGIN:VEVENT
DTSTART;TZID=Europe/Berlin:20201112T180000
DTEND;TZID=Europe/Berlin:20201112T193000
DTSTAMP:20260423T073823
CREATED:20201006T123753Z
LAST-MODIFIED:20201103T071707Z
UID:6894-1605204000-1605209400@www.seeport.at
SUMMARY:Entrepreneurship Evening mit Christoph Kulterer - Online
DESCRIPTION:Entrepreneurship Evening mit Christoph Kulterer\nCorona bedingt Online\nZiel des Entrepreneurship Evening ist es\, einen intensiven und persönlichen Einblick in das Thema Unternehmertum zu geben\, Menschen dafür zu begeistern und Erfahrungsaustausch unter Unternehmern zu ermöglichen. Dabei geht es nicht so sehr um das Unternehmen\, sondern um die Persönlichkeit des Unternehmers.\nDiesmal zu Gast: Christoph Kulterer.\n  \nBei unserem 11. Entrepreneurship Evening haben wir Christoph Kulterer\, den Geschäftsführer und Eigentümer der HASSLACHER Gruppe und EX-Präsident der Industriellenvereinigung zu Gast. Im persönlichen Gespräch wird er uns spannende Insights in seine Erfahrungen als Unternehmer und in die Entstehungs- und Entwicklungsgeschichte seines 120 Jahre alten Familienunternehmen geben. \nDarauf aufbauend werden wichtige Meilensteine und nachhaltige Perspektiven für die Zukunft aufgezeigt. \n  \n \nChristoph Kulterer ist seit 2002 Geschäftsführer und Eigentümer der HASSLACHER Gruppe. Er hat in Wien an der WU studiert und 2019 an der London Business School einen Master absolviert. Er war von 2012 bis 2018 Präsident der IV Kärnten. Unter der Leitung von Christoph Kulterer ist das Kärntner Traditionsunternehmen innerhalb von 20 Jahren von 90 Mitarbeitern auf 1.800 angewachsen. \nMit acht Produktionsstandorten in Österreich\, Deutschland\, Slowenien und Russland zählt die HASSLACHER Gruppe zu den größten und führenden Holzindustrieunternehmen Europas und ist weltweit in den Bereichen Schnittholz\, Brettschichtholz\, Brettsperrholz und Konstruktionsvollholz als innovativer Lieferant für den modernen Holzbau tätig. \nTitel des Vortrags: \n„From wood to wonders. – Innovationen mit Holz“ \nFolgen inhaltliche Punkte wird er thematisieren: \n\n\n\nErfahrungen im Familienunternehmen\nHolz als Innovationstreiber\nNachhaltige Visionen für Kärnten\n\n\n\n\n\nIn Kürze:\nWas: Entrepreneurship Evening mit Christoph Kulterer\, Geschäftsführer und Eigentümer der HASSLACHER Gruppe\, EX-Präsident der Industriellenvereinigung Kärnten \nTitel: „From wood to wonders. – Innovationen mit Holz“ \nInklusive: Q&A\, Persönliche Einblicke in das Unternehmertum und Erfahrungsaustausch \nWann: Donnerstag\, 12. November 2020\, 18.00 bis 19.30 Uhr\, LIVE im see:PORT! \n  \nDie Teilnahme ist kostenlos!
URL:https://www.seeport.at/event/entrepreneurship-evening-mit-christoph-kulterer/
LOCATION:see:PORT\, Hauptstrasse 204\, Pörtschach\, Kärnten\, 9210\, Österreich
CATEGORIES:Entrepreneurship-Evening
ATTACH;FMTTYPE=image/jpeg:https://www.seeport.at/wp-content/uploads/2020/10/HASSLACHER-NORICA-TIMBER_Christoph-Kulterer_©HASSLACHER-Gruppe_TINEFOTO-e1601987246929.jpg
ORGANIZER;CN="see%3APORT%20-%20innovate%20%26%20create%20%40%20the%20lake":MAILTO:office@seeport.at
GEO:46.6365682;14.1409163
X-APPLE-STRUCTURED-LOCATION;VALUE=URI;X-ADDRESS=see:PORT Hauptstrasse 204 Pörtschach Kärnten 9210 Österreich;X-APPLE-RADIUS=500;X-TITLE=Hauptstrasse 204:geo:14.1409163,46.6365682
END:VEVENT
END:VCALENDAR