BEGIN:VCALENDAR
VERSION:2.0
PRODID:-//seeport.at - ECPv5.14.1//NONSGML v1.0//EN
CALSCALE:GREGORIAN
METHOD:PUBLISH
X-WR-CALNAME:seeport.at
X-ORIGINAL-URL:https://www.seeport.at
X-WR-CALDESC:Veranstaltungen für seeport.at
BEGIN:VTIMEZONE
TZID:Europe/Berlin
BEGIN:DAYLIGHT
TZOFFSETFROM:+0100
TZOFFSETTO:+0200
TZNAME:CEST
DTSTART:20190331T010000
END:DAYLIGHT
BEGIN:STANDARD
TZOFFSETFROM:+0200
TZOFFSETTO:+0100
TZNAME:CET
DTSTART:20191027T010000
END:STANDARD
END:VTIMEZONE
BEGIN:VEVENT
DTSTART;TZID=Europe/Berlin:20190706T113000
DTEND;TZID=Europe/Berlin:20190706T193000
DTSTAMP:20260421T033307
CREATED:20190515T081755Z
LAST-MODIFIED:20190515T083212Z
UID:4741-1562412600-1562441400@www.seeport.at
SUMMARY:Drachenboot Regatta am Wörthersee
DESCRIPTION:Download PDF mit Details\n \n 
URL:https://www.seeport.at/event/drachenboot-regatta-am-woerthersee/
LOCATION:RV Nautilus\, Friedelstrand 21\, Klagenfurt\, Kärnten\, 9020\, Österreich
CATEGORIES:Social Event
END:VEVENT
END:VCALENDAR