BEGIN:VCALENDAR
VERSION:2.0
PRODID:-//seeport.at - ECPv5.14.1//NONSGML v1.0//EN
CALSCALE:GREGORIAN
METHOD:PUBLISH
X-WR-CALNAME:seeport.at
X-ORIGINAL-URL:https://www.seeport.at
X-WR-CALDESC:Veranstaltungen für seeport.at
BEGIN:VTIMEZONE
TZID:Europe/Berlin
BEGIN:DAYLIGHT
TZOFFSETFROM:+0100
TZOFFSETTO:+0200
TZNAME:CEST
DTSTART:20200329T010000
END:DAYLIGHT
BEGIN:STANDARD
TZOFFSETFROM:+0200
TZOFFSETTO:+0100
TZNAME:CET
DTSTART:20201025T010000
END:STANDARD
END:VTIMEZONE
BEGIN:VEVENT
DTSTART;TZID=Europe/Berlin:20200304T180000
DTEND;TZID=Europe/Berlin:20200304T193000
DTSTAMP:20260421T025953
CREATED:20200130T162143Z
LAST-MODIFIED:20200218T082857Z
UID:6013-1583344800-1583350200@www.seeport.at
SUMMARY:Buchpräsentation: Business Angels/Devils mit Dr. Florian Kandler
DESCRIPTION:Einladung zur “Business Angels/Devils” Buchpräsentation + Podiumsdiskussion / Q&A mit Business Angels \nBusiness Angels Roderik van Kessenich (investiert in Niceshop\, hellocash\, etc.)\, Aleksander Kopac (10 Investments\, AlpVent GmbH)\, Michael Ströck (15 Investments als BA\, Gründer KochAbo und Gustav)  und Florian Kandler (Buch-Autor\, Serien-Gründer\, Fundraising Advisor\, Pitch-Coach von 2 Minuten 2 Millionen\, Herausgeber des StartupReport.at\, Gastgeber im StartupPodcast.at) \nWie ticken Business Angels wirklich? Wie kannst du die guten von den schlechten Angels unterscheiden? Brauchst oder willst du überhaupt Investoren? Was sind gerechtfertigte (und überhöhte) Erwartungen an deinen Angel? Nach welchen Kriterien solltest du deinen Business Angel aussuchen? Was sind die größten Fehler und Fallen? \nTICKET UNBEDINGT ERFORDERLICH (siehe Infos unten) \n \n  \n17:30     Einlass und Networking \n18:00     Begrüßung \n18:10     Buch-Autor Florian Kandler präsentiert die besten Tipps und verrücktesten Geschichten für Gründer aus seinem Buch \n18:30     Podiums-Diskussion + Q&A mit den Business Angels und Autor Florian Kandler \n19:30     Ausklang und Networking \n  \n  \n  \n  \nWICHTIG: Das Eintritts-Ticket um € 14\,90 beinhaltet ein Exemplar vom Business Angel Buch (Wert: €29\,90)\, sowie Zutritt zum exklusiven Event mit Business-Angel-Podium + Q&A. \nAuf Grund der limitierten Teilnehmerzahl ist eine verbindliche Anmeldung unbedingt notwendig:  \nAnmeldefrist:  28. Februar 2020\, (see:PORT- und I3-Mitglieder haben Vorrang). \nVerbindliche Anmeldung unter: https://www.eventbrite.at/e/90098092821?aff=seeportevent \nEin interessantes Interview zum Thema findest du HIER \nAlle weitere Infos auf: https://www.BusinessAngelBuch.at \n  \nSei dabei\, hol dir das Insider-Wissen von den Business Angels für dein Startup. Und sichere dir ein Exemplar des Buchs. \n  \nDr. Florian Kandler \nÖsterreichs Pitch- und Fundraising-Coach. Unterrichtet an Akzeleratoren und Coacht GründerInnen in ganz Europa. Gründer von 3 Unternehmen mit >3 Mio € Funding. \nOffizieller Pitch-Coach von „2 Minuten 2 Millionen“\, Host des Gründer&Zünder Podcast und Herausgeber des Startup Report. \nWir freuen uns auf einen spannenden Abend und intensives Netzwerken \n  \n  \n  \nFolgende Business Angel werden am Podium vertreten sein.   \n \n  \n 
URL:https://www.seeport.at/event/business-angels-devils-buch-launch-event-mit-dr-florian-kandler/
LOCATION:see:PORT\, Hauptstrasse 204\, Pörtschach\, Kärnten\, 9210\, Österreich
CATEGORIES:Buchpräsentation
ORGANIZER;CN="see%3APORT%20-%20innovate%20%26%20create%20%40%20the%20lake":MAILTO:office@seeport.at
GEO:46.6365682;14.1409163
X-APPLE-STRUCTURED-LOCATION;VALUE=URI;X-ADDRESS=see:PORT Hauptstrasse 204 Pörtschach Kärnten 9210 Österreich;X-APPLE-RADIUS=500;X-TITLE=Hauptstrasse 204:geo:14.1409163,46.6365682
END:VEVENT
END:VCALENDAR