BEGIN:VCALENDAR
VERSION:2.0
PRODID:-//seeport.at - ECPv5.14.1//NONSGML v1.0//EN
CALSCALE:GREGORIAN
METHOD:PUBLISH
X-WR-CALNAME:seeport.at
X-ORIGINAL-URL:https://www.seeport.at
X-WR-CALDESC:Veranstaltungen für seeport.at
BEGIN:VTIMEZONE
TZID:Europe/Berlin
BEGIN:DAYLIGHT
TZOFFSETFROM:+0100
TZOFFSETTO:+0200
TZNAME:CEST
DTSTART:20200329T010000
END:DAYLIGHT
BEGIN:STANDARD
TZOFFSETFROM:+0200
TZOFFSETTO:+0100
TZNAME:CET
DTSTART:20201025T010000
END:STANDARD
END:VTIMEZONE
BEGIN:VEVENT
DTSTART;TZID=Europe/Berlin:20200213T130000
DTEND;TZID=Europe/Berlin:20200213T170000
DTSTAMP:20260421T085743
CREATED:20200129T142020Z
LAST-MODIFIED:20200206T064302Z
UID:5976-1581598800-1581613200@www.seeport.at
SUMMARY:Autonom fahrende Busse – eine technische wie rechtliche Herausforderung
DESCRIPTION:Eine Veranstaltung aus der Reihe TechMeetsLegal.\n\n\n\nTechMeetsLegal ist ein neues Format\, dass sich zum Ziel setzt\, ab Februar 2020 ein dediziertes\, moderiertes Forum für den Austausch im wachsenden Spannungsfeld technisch – juristischer Herausforderungen zu bieten. Ein Impulsvortrag zu einem aktuellen Thema wird ergänzt von einer Podiums- und einer Publikums diskussion zum Themenbereich.\nDas Forum wird etabliert durch eine online Plattform (www.techmeetslegal.at) um nach der Veranstaltung interdisziplinäre Kontakte zwischen Betroffenen und ausgewählten Juristen gezielt zu ermöglichen.\nDie Plattform adressiert somit gleichermaßen mit technisch – juristischen Herausforderungen konfrontierte Startups bis hin zu Großunternehmen.\n\nZum Event haben wir als Vortragenden Herrn Mag. Prutej\, MBA (SURAAA)\, DI Kogler (AIT) und Dr. Stadler (KFV) eingeladen.\nErgänzt wird das Team von Rechtsanwalt Dr. Andreas Eustacchio\, LL.M.\, Associate Legal Partner der Virtuellen Fahrzeug Forschungs-GmbH in Graz. Zusätzlich haben wir das Projekt DigiBus (Uni Sbg.) vor Ort.\n\n\n\n\nProgramm:\n\n\n13:00 Uhr: Ankommen und Networking\n13:20 Uhr: Impulsvortrag SURAAA Mag. Prutej\, MBA\n13:30 Uhr: Impulsvortrag AIT DI. Kogler\, KFV Dr. Stadler\n14:00 Uhr: Podiumsdiskussion\n14:30 Uhr: Diskussion mit dem Publikum\n15:15 Uhr: Ausklang mit Networking\n\n\n\n\nAuf Grund der limitierten Teilnehmerzahl wird um verbindliche Anmeldung ersucht: bis zum 10.02.2020 bitte an hinterleitner@techmeetslegal.at
URL:https://www.seeport.at/event/autonom-fahrende-busse-eine-technische-wie-rechtliche-herausforderung/
LOCATION:see:PORT\, Hauptstrasse 204\, Pörtschach\, Kärnten\, 9210\, Österreich
ATTACH;FMTTYPE=image/jpeg:https://www.seeport.at/wp-content/uploads/2019/09/IMG_20190911_153759.jpg
ORGANIZER;CN="Tech%20Meets%20Legal":MAILTO:hinterleitner@techmeetslegal.at
GEO:46.6365682;14.1409163
X-APPLE-STRUCTURED-LOCATION;VALUE=URI;X-ADDRESS=see:PORT Hauptstrasse 204 Pörtschach Kärnten 9210 Österreich;X-APPLE-RADIUS=500;X-TITLE=Hauptstrasse 204:geo:14.1409163,46.6365682
END:VEVENT
END:VCALENDAR