BEGIN:VCALENDAR
VERSION:2.0
PRODID:-//seeport.at - ECPv5.14.1//NONSGML v1.0//EN
CALSCALE:GREGORIAN
METHOD:PUBLISH
X-WR-CALNAME:seeport.at
X-ORIGINAL-URL:https://www.seeport.at
X-WR-CALDESC:Veranstaltungen für seeport.at
BEGIN:VTIMEZONE
TZID:Europe/Berlin
BEGIN:DAYLIGHT
TZOFFSETFROM:+0100
TZOFFSETTO:+0200
TZNAME:CEST
DTSTART:20230326T010000
END:DAYLIGHT
BEGIN:STANDARD
TZOFFSETFROM:+0200
TZOFFSETTO:+0100
TZNAME:CET
DTSTART:20231029T010000
END:STANDARD
END:VTIMEZONE
BEGIN:VEVENT
DTSTART;TZID=Europe/Berlin:20230613T083000
DTEND;TZID=Europe/Berlin:20230613T100000
DTSTAMP:20260420T171250
CREATED:20230509T041049Z
LAST-MODIFIED:20230509T041132Z
UID:11171-1686645000-1686650400@www.seeport.at
SUMMARY:InvestorCircle Talk mit Gerhard Kürner\, 506.ai
DESCRIPTION:Der see:PORT InvestorCircle Talk gibt einen intensiven und persönlichen Einblick in das Thema Investieren und die Arbeit eines Business-Angel. Darüberhinaus sollen sich Interessente vernetzen\, mögliche Investments bündeln (Co-Investment) und so den Erfahrungsaustausch unter Investoren ermöglichen. Der see:PORT InvestorCircle Talk ist ein exklusives Format für Investor*innen\, Business Angels und alle die sich für Investments in Gründerideen interessieren. \n\n\n  \n \n\n„Investitionen in Künstliche Intelligenz: Der entscheidende Katalysator für Innovation“\n\n\n\n\nIn diesem Vortrag wird Gerhard Kürner die Bedeutung von Investitionen in künstliche Intelligenz (KI) als wichtigen Katalysator für Innovationen im digitalen Zeitalter erörtern. Nach einem Überblick über den aktuellen Stand der KI-Entwicklung wird er darauf eingehen\, wie gezielte Investitionen in KI-Unternehmen bahnbrechende Technologien fördern und das Wirtschaftswachstum ankurbeln können. Darüber hinaus wird er auf die Chancen und Risiken im Bereich der KI und der aktuellen Software-Start-ups eingehen.\n\n\n\n\n  \nGerhard Kürner\, CEO und Founder\, 506.ai\n\nGerhard Kürner beschäftigt sich seit den 80er Jahren mit digitalen Möglichkeiten. In den 90ern war er an der Einführung von CD-I beteiligt\nund entwickelte eines der ersten TV-Streaming-Angebote in Österreich\, als Head of Corporate Communication der voestalpine gestaltete er die Markentransformation zu einem globalen Technologiekonzern aktiv mit.\nNach mehreren Unternehmensbeteiligungen gründete er 2020 das Marketing Data Science Startup Five-O-Six. Mit der eigenen KI-basierten Customer Intelligence Plattform ist 506 eines der forschungsintensivsten Unternehmen im Einsatz von künstlicher Intelligenz zur Analyse und Auswertung von Kundendaten.\n  \nAls Experte für künstliche Intelligenz und Online-Marketing revolutioniert Five-O-Six die Art und Weise\, wie Unternehmen ihre Daten nutzen\, um mit ihren Kunden zu kommunizieren. Die KI-basierte Customer Intelligence-Plattform ermöglicht es Unternehmen erstmals\, ihre Kunden wirklich zu verstehen und sie zum richtigen Zeitpunkt mit den richtigen Themen anzusprechen\, um ihren Geschäftserfolg zu steigern. Kurzbeschreibung zur Person (3 Zeiler/ max. 250 Zeichen):\n\n\n\n\n\n\n\n\n\nWas: InvestorCircle Talk\nWer: Gerhard Kürner\, CEO & Founder\, 506.ai\nWann: Dienstag\, 13. Juni\, 8.30 bis 10.00 Uhr
URL:https://www.seeport.at/event/506-ai/
LOCATION:online
CATEGORIES:Investor Circle
ATTACH;FMTTYPE=image/jpeg:https://www.seeport.at/wp-content/uploads/2023/04/B95I1505-scaled.jpg
ORGANIZER;CN="see%3APORT%20-%20innovate%20%26%20create%20%40%20the%20lake":MAILTO:office@seeport.at
END:VEVENT
END:VCALENDAR