BEGIN:VCALENDAR
VERSION:2.0
PRODID:-//seeport.at - ECPv5.14.1//NONSGML v1.0//EN
CALSCALE:GREGORIAN
METHOD:PUBLISH
X-WR-CALNAME:seeport.at
X-ORIGINAL-URL:https://www.seeport.at
X-WR-CALDESC:Veranstaltungen für seeport.at
BEGIN:VTIMEZONE
TZID:Europe/Berlin
BEGIN:DAYLIGHT
TZOFFSETFROM:+0100
TZOFFSETTO:+0200
TZNAME:CEST
DTSTART:20250330T010000
END:DAYLIGHT
BEGIN:STANDARD
TZOFFSETFROM:+0200
TZOFFSETTO:+0100
TZNAME:CET
DTSTART:20251026T010000
END:STANDARD
END:VTIMEZONE
BEGIN:VEVENT
DTSTART;TZID=Europe/Berlin:20250205T083000
DTEND;TZID=Europe/Berlin:20250205T100000
DTSTAMP:20260421T013938
CREATED:20250116T123336Z
LAST-MODIFIED:20250128T084650Z
UID:12715-1738744200-1738749600@www.seeport.at
SUMMARY:31. InvestorCircle Talk
DESCRIPTION:„Wer wagt sich aufs Eis?“\nWir freuen uns\, euch den Speaker für diese Veranstaltung vorzustellen:\nJürgen Jelly\, Geschäftsführer der itom invest GmbH. Mit über 25 Jahren Erfahrung als Serial Entrepreneur und Investor sowie als Vortragender an Universitäten im Bereich Innovation und Finance bringt er eine Fülle an Expertise mit. \nJürgen Jelly gibt spannende Einblicke in: \n\nDie wichtigsten Investmentkriterien bei Innovationen\nEin Modell zur Bewertung von Innovationen und Produkten\nStrategien zur Risikominimierung bei Projekten und Investitionen\n\nKurzbeschreibung des Vortrags:\nWie entstehen Innovationen\, und wie lassen sich Investitionen in diese systematisch bewerten und absichern? Jürgen Jelly zeigt praxisnahe Ansätze\, um Risiken zu minimieren und Chancen optimal zu nutzen. \nÜber itom invest:\nitom invest ist nicht nur als Business Angel aktiv\, sondern auch Plattform für strukturierte Investmentstrategien in spezifischen Sektoren. \nLass dir diese Gelegenheit nicht entgehen! Sei dabei und sichere dir wertvolle Einblicke in die Welt der Innovationen und Investments. Wir freuen uns auf dich! \n\n\n—————————————————————————————————————————————————————————————————————————\n\nWas: InvestorCircle Talk\nWer: Jürgen Jelly\nWann: Mittwoch\, 05. Februar 2025\, 8.30 bis 10.00 Uhr\n\n\n\n 
URL:https://www.seeport.at/event/31-investorcircle-talk/
LOCATION:online
CATEGORIES:Investor Circle
ATTACH;FMTTYPE=image/png:https://www.seeport.at/wp-content/uploads/2025/01/NL_Neu_Banner.png
ORGANIZER;CN="see%3APORT%20-%20innovate%20%26%20create%20%40%20the%20lake":MAILTO:office@seeport.at
END:VEVENT
END:VCALENDAR