BEGIN:VCALENDAR
VERSION:2.0
PRODID:-//seeport.at - ECPv5.14.1//NONSGML v1.0//EN
CALSCALE:GREGORIAN
METHOD:PUBLISH
X-WR-CALNAME:seeport.at
X-ORIGINAL-URL:https://www.seeport.at
X-WR-CALDESC:Veranstaltungen für seeport.at
BEGIN:VTIMEZONE
TZID:Europe/Berlin
BEGIN:DAYLIGHT
TZOFFSETFROM:+0100
TZOFFSETTO:+0200
TZNAME:CEST
DTSTART:20220327T010000
END:DAYLIGHT
BEGIN:STANDARD
TZOFFSETFROM:+0200
TZOFFSETTO:+0100
TZNAME:CET
DTSTART:20221030T010000
END:STANDARD
END:VTIMEZONE
BEGIN:VEVENT
DTSTART;TZID=Europe/Berlin:20220607T180000
DTEND;TZID=Europe/Berlin:20220607T190000
DTSTAMP:20260421T035801
CREATED:20220211T151840Z
LAST-MODIFIED:20220525T113129Z
UID:8512-1654624800-1654628400@www.seeport.at
SUMMARY:On_Tuesday mit Albert Vogl-Bader\, CEO von Carployee GmbH
DESCRIPTION:Du bist selbstständig oder möchtest gerne selbstständig werden?\nWas Du unbedingt alles als Unternehmer/in beachten musst\, erfährst Du im exklusiven Online-Call mit Albert Vogl-Bader\, CEO von Carployee GmbH\nMit dem On.Tuesday machen wir Lust auf Selbständigkeit und laden dazu in regelmäßigen Abstände große Persönlichkeiten aus der Unternehmer- und Startup-Szene zu einem 60 min Online Call ein. Diese Persönlichkeiten geben als „Role Model“ exklusive Einblicke in ihren unternehmerischen Werdegang und berichten von ihren dabei gemachten Erfahrungen. \nDu erhältst Tipps von A-Z zur erfolgreichen Selbständigkeit. Nutzt die Möglichkeit und stellt Eure Fragen \n \n  \n  \n  \n \n  \n\nAlbert Vogl-Bader\nAlbert Vogl-Bader ist CEO\, sowie Mitbegründer von Carployee. Drüber hinaus ist er Founding Partner von Vendevio und racoonIT. Sein oberstes Ziel ist die Gestaltung eines effizienten Mobilitätsverhaltens durch das Zusammenspiel von Technologie und Nachhaltigkeit.\n  \n\nCarployee – von Rad bis Auto\nDas Unternehmen wurde 2018 als Anbieter einer Carpooling-App für Unternehmen und Businessparks gegründet. Mittlerweile ist Carployee Teil des US-Unternehmens RideAmigos und fokussiert de gesamte Mobilität von Rad bis Auto. Ziel ist es die Welt des Pendelns zu verbessern.\n\n\n\n  \nChanging mobility behaviors\n\nIm Rahmen des On.Tuesdays wird Albert Vogl-Bader mit seinem Vortrag einen exklusiven Einblick in die Veränderungen unserers Mobilitätverhalten geben. Welche Chancen entstehen durch Verhaltensänderung\, und wie können technologische Innvoationen diese Veränderungen ermöglichen? Im Vortrag erläutert CEO  Vogl-Bader unteranderem\, warum neue Konzepte der User Experience wie „Push-Mobility“ die Effizienz der zukünftigen Mobilität bestimmen werden . \n  \nIn Kürze:\n\n\nWas:    On.Tuesday \nWer:  Albert Vogl-Bader\, CEO von Carployee \nTitel:  „Changing mobility behaviors – Technologie und Nachhaltigkeit“ \nWann: Dienstag\, 7. Juni 2022\, 18h\, online \n\n  \nWir freuen uns auf zahlreiche Anmeldungen und spannende Einblicke. \n  \n  \nIn Kooperation mit:\n       \n             \n  \n 
URL:https://www.seeport.at/event/18-on-tuesday-mit-albert-vogl-bader/
LOCATION:online
CATEGORIES:On.Tuesday,Online
ATTACH;FMTTYPE=image/jpeg:https://www.seeport.at/wp-content/uploads/2022/02/Vogl-Bader-FB-Post.jpg
END:VEVENT
END:VCALENDAR