BEGIN:VCALENDAR
VERSION:2.0
PRODID:-//seeport.at - ECPv5.14.1//NONSGML v1.0//EN
CALSCALE:GREGORIAN
METHOD:PUBLISH
X-WR-CALNAME:seeport.at
X-ORIGINAL-URL:https://www.seeport.at
X-WR-CALDESC:Veranstaltungen für seeport.at
BEGIN:VTIMEZONE
TZID:Europe/Berlin
BEGIN:DAYLIGHT
TZOFFSETFROM:+0100
TZOFFSETTO:+0200
TZNAME:CEST
DTSTART:20220327T010000
END:DAYLIGHT
BEGIN:STANDARD
TZOFFSETFROM:+0200
TZOFFSETTO:+0100
TZNAME:CET
DTSTART:20221030T010000
END:STANDARD
END:VTIMEZONE
BEGIN:VEVENT
DTSTART;TZID=Europe/Berlin:20220405T180000
DTEND;TZID=Europe/Berlin:20220405T190000
DTSTAMP:20260423T051920
CREATED:20220218T145240Z
LAST-MODIFIED:20220405T082059Z
UID:8532-1649181600-1649185200@www.seeport.at
SUMMARY:16. On_Tuesday mit Erich Tauber\, Co-Founder und CEO von Themis Bioscience
DESCRIPTION:Du bist selbstständig oder möchtest gerne selbstständig werden?\nWas Du unbedingt alles als Unternehmer/in beachten musst\, erfährst Du im exklusiven Online-Call mit Erich Tauber\, CO CEO von Themis Bioscience GmbH\n\nMit dem On_Tuesday machen wir Lust auf Selbständigkeit und laden dazu in regelmäßigen Abstände große Persönlichkeiten aus der Unternehmer- und Startup-Szene zu einem 60 min Online Call ein. Diese Persönlichkeiten geben als „Role Model“ exklusive Einblicke in ihren unternehmerischen Werdegang und berichten von ihren dabei gemachten Erfahrungen. \nDu erhältst Tipps von A-Z zur erfolgreichen Selbständigkeit. Nutzt die Möglichkeit und stellt Eure Fragen! \n  \n\n \n \n  \n  \n\n\n\n\n\n\n\n\nErich Tauber\n\nErich Tauber hat Themis im Jahr 2009 mitbegründet und war bis zur Übernahme durch MSD (ein Unternehmen von Merck & Co.\, Inc.\, Kenilworth\, N.J.\, USA) im Juni 2020 als CEO tätig. Vor seiner Zeit bei Themis\, in der er das Unternehmen zu einem der weltweit führenden in der Impfstoffforschung und -entwicklung aufgebaut hat\, war er in verschiedenen Rollen mit steigender Verantwortung bei AstraZeneca\, Baxter\, Intercell und Nycomed tätig. Im Laufe seiner Karriere war er für die Entwicklung und Kommerzialisierung einer Reihe von Therapien und Impfstoffen verantwortlich. Er ist ein anerkannter Experte im Feld der Impfstoff- und Produktentwicklung und Autor einer Vielzahl wissenschaftlicher Publikationen. Seine medizinische Ausbildung erhielt er an der Universität Wien\, die er mit einer Promotion an der Medizinischen Universität Wien abschloss. \n\n\n\nThemis Bioscience\n\nThemis\, ist ein Unternehmen\, das sich auf Impfstoffe und Immunmodulationstherapien für Infektionskrankheiten fokussiert. Themis hat eine breitgefächerte Pipeline von Impfstoffkandidaten sowie Immunmodulationstherapien mittels seiner innovativen Masernvirus-Vektor-Plattform aufgebaut. Die Plattform basiert auf einen Vektor\, der ursprünglich von Wissenschaftlern des Institut Pasteur\, einem weltweit führenden Forschungsinstitut für Impfstoffe\, entwickelt wurde. Dieser wurde für ausgewählte virale Indikationen exklusiv an Themis lizenziert. MSD ist ein global führendes Unternehmen im Bereich der Infektionskrankheiten und Impfstoffe\, mit langjähriger Erfahrung in der Forschung\, Entwicklung\, Herstellung sowie dem Vertrieb von Impfstoffen für Kinder\, Jugendliche und Erwachsene.\n\n\nExklusive Einblicke\nIm Rahmen des On.Tuesdays wird Erich Tauber mit seinem Vortrag einen exklusiven Einblick in die Unternehmensgeschichte von Themis geben. Von der Gründung der Firma\, zur Etablierung des Unternehmens\, bishin zum Exit an Big Pharma.\n\nIn Kürze:\n\n\nWas:    On_Tuesday \nWer:  Erich Tauber\, Co-Founder und CEO der Themis Bioscience GmbH \nTitel:  „Themis – Starting a Biotech Company “ \nWann: Dienstag\, 5. April 2022\, 18h\, online \n\n  \nWir freuen uns auf zahlreiche Anmeldungen und spannende Einblicke. \n  \nIn Kooperation mit:\n  \n  \n \n            \n  \n 
URL:https://www.seeport.at/event/16-on-tuesday-mit-erich-tauber-co-founder-und-ceo-von-themis-bioscience/
LOCATION:online
CATEGORIES:On.Tuesday
ATTACH;FMTTYPE=image/jpeg:https://www.seeport.at/wp-content/uploads/2022/02/Erich_Tauber-2.jpg
ORGANIZER;CN="see%3APORT%20-%20innovate%20%26%20create%20%40%20the%20lake":MAILTO:office@seeport.at
END:VEVENT
END:VCALENDAR